BEGIN:VCALENDAR
VERSION:2.0
PRODID:-//Baptist State Convention of Michigan - ECPv6.15.20//NONSGML v1.0//EN
CALSCALE:GREGORIAN
METHOD:PUBLISH
X-ORIGINAL-URL:https://bscm.org
X-WR-CALDESC:Events for Baptist State Convention of Michigan
REFRESH-INTERVAL;VALUE=DURATION:PT1H
X-Robots-Tag:noindex
X-PUBLISHED-TTL:PT1H
BEGIN:VTIMEZONE
TZID:America/Detroit
BEGIN:DAYLIGHT
TZOFFSETFROM:-0500
TZOFFSETTO:-0400
TZNAME:EDT
DTSTART:20240310T070000
END:DAYLIGHT
BEGIN:STANDARD
TZOFFSETFROM:-0400
TZOFFSETTO:-0500
TZNAME:EST
DTSTART:20241103T060000
END:STANDARD
BEGIN:DAYLIGHT
TZOFFSETFROM:-0500
TZOFFSETTO:-0400
TZNAME:EDT
DTSTART:20250309T070000
END:DAYLIGHT
BEGIN:STANDARD
TZOFFSETFROM:-0400
TZOFFSETTO:-0500
TZNAME:EST
DTSTART:20251102T060000
END:STANDARD
BEGIN:DAYLIGHT
TZOFFSETFROM:-0500
TZOFFSETTO:-0400
TZNAME:EDT
DTSTART:20260308T070000
END:DAYLIGHT
BEGIN:STANDARD
TZOFFSETFROM:-0400
TZOFFSETTO:-0500
TZNAME:EST
DTSTART:20261101T060000
END:STANDARD
BEGIN:DAYLIGHT
TZOFFSETFROM:-0500
TZOFFSETTO:-0400
TZNAME:EDT
DTSTART:20270314T070000
END:DAYLIGHT
BEGIN:STANDARD
TZOFFSETFROM:-0400
TZOFFSETTO:-0500
TZNAME:EST
DTSTART:20271107T060000
END:STANDARD
END:VTIMEZONE
BEGIN:VEVENT
DTSTART;TZID=America/Detroit:20260418T100000
DTEND;TZID=America/Detroit:20260418T160000
DTSTAMP:20260424T085936
CREATED:20260206T042001Z
LAST-MODIFIED:20260206T044447Z
UID:25815097-1776506400-1776528000@bscm.org
SUMMARY:SENT | Youth Evangelism Conference
DESCRIPTION:You weren’t saved to sit — you were SENT. \n\n\nAt this year’s Youth Evangelism Conference we’re diving into John 20:21 and what it means for students to live on mission right now! Through worship\, teaching\, and real-life application\, middle and high school students will be inspired to boldly share Jesus wherever they go! \nThis year we’re excited to welcome back Ryan Fontenot! Ryan is a modern-day evangelist\, spreading the good news of God’s love with unwavering passion. His message resonates with this generation through his unique gift for biblical preaching – imparting timeless truths in accessible and meaningful ways that are applicable in everyday life. \nWe’re also excited to be led by Mile City Music\, a contemporary Christian worship group based out of Mile City Church in Metro Detroit! \nYou won’t want your teens to miss out on this powerful one day conference! \n**Tickets are just $20/student\, due upon arrival! \n \nRSVP HERE!
URL:https://bscm.org/event/sent-youth-evangelism-conference/
LOCATION:Grumlaw Church – Hartland\, 8457 E Highland Rd\, Howell\, MI\, 48855\, United States
CATEGORIES:All,Student Ministry
ATTACH;FMTTYPE=image/png:https://bscm.org/wp-content/uploads/2026/02/YEC-2026-16x9-1.png
ORGANIZER;CN="Baptist State Convention of Michigan":MAILTO:info@bscm.org
END:VEVENT
BEGIN:VEVENT
DTSTART;TZID=America/Detroit:20260316T183000
DTEND;TZID=America/Detroit:20260316T193000
DTSTAMP:20260424T085936
CREATED:20260310T145012Z
LAST-MODIFIED:20260310T191356Z
UID:25815125-1773685800-1773689400@bscm.org
SUMMARY:Special Called Business Meeting
DESCRIPTION:The purpose of this meeting is to consider and vote on a motion regarding the sale of real property that was recently donated to the Baptist State Convention of Michigan by the Huron Association in Howell\, Michigan.\n\n\n\n\n\nAs you may know\, we received this property as a gift. The Board of Trustees will be meeting to recommend that the property be listed and sold so that the proceeds can be used to further Gospel work across Michigan. Because the value of the property may exceed $100\,000\, our policies require that the messengers of the Convention approve this action in a specially called business meeting.\n\n\n\n\n\n\n\nDate: Monday\, March 16Time: 6:30 PMLocation: BSCM Office\, 41100 Plymouth Rd.\, Plymouth\, MI 48170\n\n\n\n\n\nThe motion that will be presented to the messengers is as follows:\n\n\n\n\n\nMotion:\n\n\nWe move that the messengers of the Baptist State Convention of Michigan authorize Ronald Ed Emmerling\, Executive Director-Treasurer\, to list and sell and sign any documents related to such sale for the real property that the BSCM received as a gift from the Huron Association.\n\n\n\n\n\nThe legal description of said property is:\n\n\nSEC 11 T2N R4E BEG E 1/4 COR\, TH N1W 328.58 FT ALG C/L PINCKNEY RD\, TH S89W 1343.86 FT\, TH S1E 320.43 FT\, TH S89E 1344.01 FT TO POB SPLIT 5/87 FROM 200-001\n\n\n\n\n\nParcel Identification:PARCEL NUMBER: 4710-11-200-007PROPERTY ADDRESS:PINCKNEY RD\, HOWELL\, MI 48843\n\n\n\n\n\nWe further move that the proceeds received from the sale of this property\, after costs\, be earmarked for Church Planting/Replanting and Revitalization.\n\n\nThis brief meeting will allow us to steward this generous gift well and direct the proceeds toward strengthening and multiplying churches across Michigan.\n\n\n\n\n\nWe are also having an informational zoom meeting on Thursday\, March 12th at 2pm for anyone that has questions about this motion.\n\n\n\n\n\nThe Zoom information is:\n\n\n\n\n\nTime: Mar 12\, 2026 @ 2pmMeeting Link: CLICK HERE!Meeting ID: 865 0272 9994\, Passcode: 779509\n\n\n\n\n\nIf you cannot attend the zoom and have questions\, please feel free to call me or our state convention offices. \n\n\n\n\n\nThank you for your partnership in the Gospel and for your faithful service to our churches!
URL:https://bscm.org/event/special-called-business-meeting/
LOCATION:BSCM Office\, 41100 Plymouth Road\, Bldg.1\, Suite 315\, Plymouth\, MI\, 48170\, United States
CATEGORIES:All,Business Meetings
ATTACH;FMTTYPE=image/png:https://bscm.org/wp-content/uploads/2026/03/Special-Called-Business-Meeting.png
ORGANIZER;CN="Baptist State Convention of Michigan":MAILTO:info@bscm.org
END:VEVENT
BEGIN:VEVENT
DTSTART;TZID=America/Detroit:20260314T100000
DTEND;TZID=America/Detroit:20260314T130000
DTSTAMP:20260424T085936
CREATED:20260204T201144Z
LAST-MODIFIED:20260204T201621Z
UID:25815071-1773482400-1773493200@bscm.org
SUMMARY:VBS Training
DESCRIPTION:Get ready to light up your VBS this summer! Join us for VBS Training at Heritage Baptist Church in Monroe on Saturday\, March 14th from 10am–1pm as we prepare for Illumination Station VBS — the brightest week of the year. This hands-on training will equip and encourage VBS leaders with practical tools\, creative ideas\, and spiritual focus to help kids discover that Jesus is the Light of the World (John 8:12). Come be inspired\, get resourced\, and leave ready to shine His light in your community! \nRSVP HERE
URL:https://bscm.org/event/vbs-training/
LOCATION:Heritage Baptist Church\, 612 Strasburg Rd\, Monroe\, MI\, 48161\, United States
CATEGORIES:All,Strengthening
ATTACH;FMTTYPE=image/png:https://bscm.org/wp-content/uploads/2026/02/VBS-Training-Slide.png
END:VEVENT
BEGIN:VEVENT
DTSTART;TZID=America/Detroit:20260303T090000
DTEND;TZID=America/Detroit:20260303T160000
DTSTAMP:20260424T085936
CREATED:20260204T232615Z
LAST-MODIFIED:20260217T202903Z
UID:25815075-1772528400-1772553600@bscm.org
SUMMARY:Strengthening Lab | Madison Heights
DESCRIPTION:The Strengthening Lab is a focused\, hands-on experience designed to help church leaders take their next step in accelerating Gospel movement. Through Scripture\, prayer\, and practical tools\, you’ll assess where you are\, clarify where God is leading\, and leave with a clear strategy to engage your city\, equip disciples\, and expand the Kingdom. This isn’t just inspiration—it’s transformation with next steps. Bring your team and come ready to act. \n*Breakfast and lunch will be provided! \nRSVP HERE!
URL:https://bscm.org/event/strengthening-lab-madison-heights/
LOCATION:The Church at Madison Heights\, 215 W. 11 Mile Road\, Madison Heights\, MI\, United States
CATEGORIES:All,Strengthening Labs
ATTACH;FMTTYPE=image/png:https://bscm.org/wp-content/uploads/2026/02/Strengthening-Lab-Madison-Heights-1.png
ORGANIZER;CN="Baptist State Convention of Michigan":MAILTO:info@bscm.org
END:VEVENT
BEGIN:VEVENT
DTSTART;TZID=America/Detroit:20251107T083000
DTEND;TZID=America/Detroit:20251107T150000
DTSTAMP:20260424T085936
CREATED:20251106T133415Z
LAST-MODIFIED:20251106T133855Z
UID:25814983-1762504200-1762527600@bscm.org
SUMMARY:2025 BSCM Annual Meeting
DESCRIPTION:Every great movement of God has begun with the believers coming together in unity\, motivated by the mission King Jesus has sent us on! At the 2025 BSCM Annual Meeting\, we’ll gather to celebrate that truth and to pursue the call of Philippians 1:27: to “Accelerate Gospel Movement Together.”\n\n\n\nJoin us at Ekklesia of Grand Blanc on Friday\, November 7th for a day of worship\, inspiring stories\, and renewed vision as we stand firm in one spirit and one accord for the sake of the gospel.\n\n\n\n Ekklesia of Grand Blanc | 2353 E Grand Blanc Rd\, Grand Blanc\, MI\n Friday\, November 7 | 8:30am–3pm
URL:https://bscm.org/event/2025-bscm-annual-meeting/
LOCATION:Ekklesia of Grand Blanc\, 2353 E Grand Blanc Rd\, Grand Blanc\, MI\, United States
CATEGORIES:All
ATTACH;FMTTYPE=image/png:https://bscm.org/wp-content/uploads/2025/11/Accelarting-Gospel-Movement-Together-16x9-Date.png
ORGANIZER;CN="Baptist State Convention of Michigan":MAILTO:info@bscm.org
END:VEVENT
END:VCALENDAR