BEGIN:VCALENDAR
VERSION:2.0
PRODID:-//Baptist State Convention of Michigan - ECPv6.15.20//NONSGML v1.0//EN
CALSCALE:GREGORIAN
METHOD:PUBLISH
X-WR-CALNAME:Baptist State Convention of Michigan
X-ORIGINAL-URL:https://bscm.org
X-WR-CALDESC:Events for Baptist State Convention of Michigan
REFRESH-INTERVAL;VALUE=DURATION:PT1H
X-Robots-Tag:noindex
X-PUBLISHED-TTL:PT1H
BEGIN:VTIMEZONE
TZID:America/Detroit
BEGIN:DAYLIGHT
TZOFFSETFROM:-0500
TZOFFSETTO:-0400
TZNAME:EDT
DTSTART:20250309T070000
END:DAYLIGHT
BEGIN:STANDARD
TZOFFSETFROM:-0400
TZOFFSETTO:-0500
TZNAME:EST
DTSTART:20251102T060000
END:STANDARD
BEGIN:DAYLIGHT
TZOFFSETFROM:-0500
TZOFFSETTO:-0400
TZNAME:EDT
DTSTART:20260308T070000
END:DAYLIGHT
BEGIN:STANDARD
TZOFFSETFROM:-0400
TZOFFSETTO:-0500
TZNAME:EST
DTSTART:20261101T060000
END:STANDARD
BEGIN:DAYLIGHT
TZOFFSETFROM:-0500
TZOFFSETTO:-0400
TZNAME:EDT
DTSTART:20270314T070000
END:DAYLIGHT
BEGIN:STANDARD
TZOFFSETFROM:-0400
TZOFFSETTO:-0500
TZNAME:EST
DTSTART:20271107T060000
END:STANDARD
END:VTIMEZONE
BEGIN:VEVENT
DTSTART;TZID=America/Detroit:20260316T183000
DTEND;TZID=America/Detroit:20260316T193000
DTSTAMP:20260424T135758
CREATED:20260310T145012Z
LAST-MODIFIED:20260310T191356Z
UID:25815125-1773685800-1773689400@bscm.org
SUMMARY:Special Called Business Meeting
DESCRIPTION:The purpose of this meeting is to consider and vote on a motion regarding the sale of real property that was recently donated to the Baptist State Convention of Michigan by the Huron Association in Howell\, Michigan.\n\n\n\n\n\nAs you may know\, we received this property as a gift. The Board of Trustees will be meeting to recommend that the property be listed and sold so that the proceeds can be used to further Gospel work across Michigan. Because the value of the property may exceed $100\,000\, our policies require that the messengers of the Convention approve this action in a specially called business meeting.\n\n\n\n\n\n\n\nDate: Monday\, March 16Time: 6:30 PMLocation: BSCM Office\, 41100 Plymouth Rd.\, Plymouth\, MI 48170\n\n\n\n\n\nThe motion that will be presented to the messengers is as follows:\n\n\n\n\n\nMotion:\n\n\nWe move that the messengers of the Baptist State Convention of Michigan authorize Ronald Ed Emmerling\, Executive Director-Treasurer\, to list and sell and sign any documents related to such sale for the real property that the BSCM received as a gift from the Huron Association.\n\n\n\n\n\nThe legal description of said property is:\n\n\nSEC 11 T2N R4E BEG E 1/4 COR\, TH N1W 328.58 FT ALG C/L PINCKNEY RD\, TH S89W 1343.86 FT\, TH S1E 320.43 FT\, TH S89E 1344.01 FT TO POB SPLIT 5/87 FROM 200-001\n\n\n\n\n\nParcel Identification:PARCEL NUMBER: 4710-11-200-007PROPERTY ADDRESS:PINCKNEY RD\, HOWELL\, MI 48843\n\n\n\n\n\nWe further move that the proceeds received from the sale of this property\, after costs\, be earmarked for Church Planting/Replanting and Revitalization.\n\n\nThis brief meeting will allow us to steward this generous gift well and direct the proceeds toward strengthening and multiplying churches across Michigan.\n\n\n\n\n\nWe are also having an informational zoom meeting on Thursday\, March 12th at 2pm for anyone that has questions about this motion.\n\n\n\n\n\nThe Zoom information is:\n\n\n\n\n\nTime: Mar 12\, 2026 @ 2pmMeeting Link: CLICK HERE!Meeting ID: 865 0272 9994\, Passcode: 779509\n\n\n\n\n\nIf you cannot attend the zoom and have questions\, please feel free to call me or our state convention offices. \n\n\n\n\n\nThank you for your partnership in the Gospel and for your faithful service to our churches!
URL:https://bscm.org/event/special-called-business-meeting/
LOCATION:BSCM Office\, 41100 Plymouth Road\, Bldg.1\, Suite 315\, Plymouth\, MI\, 48170\, United States
CATEGORIES:All,Business Meetings
ATTACH;FMTTYPE=image/png:https://bscm.org/wp-content/uploads/2026/03/Special-Called-Business-Meeting.png
ORGANIZER;CN="Baptist State Convention of Michigan":MAILTO:info@bscm.org
END:VEVENT
END:VCALENDAR