BEGIN:VCALENDAR
VERSION:2.0
PRODID:-//Baptist State Convention of Michigan - ECPv6.15.20//NONSGML v1.0//EN
CALSCALE:GREGORIAN
METHOD:PUBLISH
X-WR-CALNAME:Baptist State Convention of Michigan
X-ORIGINAL-URL:https://bscm.org
X-WR-CALDESC:Events for Baptist State Convention of Michigan
REFRESH-INTERVAL;VALUE=DURATION:PT1H
X-Robots-Tag:noindex
X-PUBLISHED-TTL:PT1H
BEGIN:VTIMEZONE
TZID:America/Detroit
BEGIN:DAYLIGHT
TZOFFSETFROM:-0500
TZOFFSETTO:-0400
TZNAME:EDT
DTSTART:20250309T070000
END:DAYLIGHT
BEGIN:STANDARD
TZOFFSETFROM:-0400
TZOFFSETTO:-0500
TZNAME:EST
DTSTART:20251102T060000
END:STANDARD
BEGIN:DAYLIGHT
TZOFFSETFROM:-0500
TZOFFSETTO:-0400
TZNAME:EDT
DTSTART:20260308T070000
END:DAYLIGHT
BEGIN:STANDARD
TZOFFSETFROM:-0400
TZOFFSETTO:-0500
TZNAME:EST
DTSTART:20261101T060000
END:STANDARD
BEGIN:DAYLIGHT
TZOFFSETFROM:-0500
TZOFFSETTO:-0400
TZNAME:EDT
DTSTART:20270314T070000
END:DAYLIGHT
BEGIN:STANDARD
TZOFFSETFROM:-0400
TZOFFSETTO:-0500
TZNAME:EST
DTSTART:20271107T060000
END:STANDARD
END:VTIMEZONE
BEGIN:VEVENT
DTSTART;TZID=America/Detroit:20260625T160000
DTEND;TZID=America/Detroit:20260626T120000
DTSTAMP:20260424T102758
CREATED:20260212T220301Z
LAST-MODIFIED:20260414T133101Z
UID:25815112-1782403200-1782475200@bscm.org
SUMMARY:Refresh Your Ministry Retreat
DESCRIPTION:Gather with Baptist State Convention of Michigan pastors and wives for an overnight retreat with a purpose! \n\nRelaxing accommodation\nRefreshing fellowship\nResourceful speaker\n\nServing in the local church is one of the greatest privileges—and one of the greatest pressures—of the Christian life. Pastors and their wives carry unique burdens\, often pouring themselves out for the good of others while having few opportunities to rest\, reconnect\, and be poured into themselves. This Refresh Retreat is designed to offer a sacred pause: a time to breathe deeply\, lean into God’s grace\, and rediscover joy in life and ministry. \nThrough encouraging teaching\, meaningful conversations\, and intentional time together\, couples will be refreshed spiritually\, strengthened relationally\, and renewed for the work God has called them to. Sessions will focus on cultivating healthy rhythms and remaining rooted in God’s Word amid the demands of ministry. Pastors and wives will leave encouraged\, equipped\, and reminded that they are not alone—God is faithful\, and their BSCM family stands with them. \nWe’re excited to welcome Brian Croft as our Keynote Speaker! Brian is the former Senior Pastor of Auburndale Baptist Church in Louisville\, Kentucky and is the Founder/Executive Director of Practical Shepherding\, Inc! He is also Senior Fellow for the Mathena Center for Church Revitalization and an Adjunct Professor at The Southern Baptist Theological Seminary. He is the husband of Cara and father of four children\, son\, Samuel and daughters\, Abby\, Isabelle\, and Claire. He has served in pastoral ministry for thirty years\, spending seventeen of those years as Senior Pastor of Auburndale Baptist Church. He has written or contributed to over twenty-five books to help serve pastors and church leaders on the practicalities of pastoral ministry. \nCome enjoy a gracious space to rest\, reconnect\, and be renewed for another season of fruitful ministry in the local church! \nREGISTER HERE!\nLodging Info:\nWeber’s Boutique Hotel (https://www.webersannarbor.com) offers a little bit of luxury and pampering right in the city. Modern rooms boast of Simmons pillowtop beds\, Bluetooth Bose speakers\, and Italian porcelain tiled bathrooms. \nIncluded in your registration fee:\nOvernight accommodations at Weber’s Boutique Hotel\, delicious plated dinner Thursday evening\, coffee and snack Friday mid-morning. No breakfast served on Friday. \nRegistration fee:\n$249 per couple. If your church contributes to the Cooperative Program and you stay for the full duration of the event you will receive a $100 gift card! \nRegistration deadline:\nMay 15\, 2026 @ 4:00pm
URL:https://bscm.org/event/refresh-your-ministry-retreat/
LOCATION:Weber’s Boutique Hotel\, 3050 Jackson Avenue\, Ann Arbor\, MI\, 48103\, United States
CATEGORIES:All,Retreats,Strengthening
ATTACH;FMTTYPE=image/png:https://bscm.org/wp-content/uploads/2026/02/Refresh-Your-Ministry-Retreat-1.png
ORGANIZER;CN="Baptist State Convention of Michigan":MAILTO:info@bscm.org
END:VEVENT
BEGIN:VEVENT
DTSTART;TZID=America/Detroit:20261008T160000
DTEND;TZID=America/Detroit:20261009T120000
DTSTAMP:20260424T102758
CREATED:20260213T145430Z
LAST-MODIFIED:20260415T152228Z
UID:25815116-1791475200-1791547200@bscm.org
SUMMARY:Refresh Your Marriage Retreat
DESCRIPTION:Gather with Baptist State Convention of Michigan pastors and wives for an overnight retreat with a purpose! \n\nRelaxing accommodation\nRefreshing fellowship\nResourceful speakers\n\nMarriage is one of God’s greatest gifts—and\, at times\, one of life’s greatest challenges. In the midst of busy schedules\, constant demands\, and the weight of responsibility\, couples can find themselves giving their best energy everywhere else while their marriage quietly runs on fumes. Refresh Your Marriage is designed to offer a sacred pause: a time to slow down\, breathe deeply\, lean into God’s grace\, and intentionally reconnect with one another.  \nThrough encouraging teaching\, honest conversation\, and unhurried time together\, couples will be refreshed spiritually\, strengthened relationally\, and reminded of God’s good design for marriage. Sessions will focus on \nnurturing healthy communication\, cultivating shared rhythms\, and remaining rooted in God’s Word as husband and wife amid the pressures of everyday life.  \nCouples will leave encouraged\, re-centered\, and renewed—better equipped to love one another well and to step into the next season of life together with hope and purpose. Come enjoy a gracious space to rest\, reconnect\, and refresh your marriage. \nWe are delighted to welcome Pastor Brian and Amy Bloye as our keynote speakers! With a shared passion for helping couples grow closer to God and to one another\, Brian and Amy bring warmth\, wisdom\, and real-life insight to every setting. \nPastor Brian serves as Lead Pastor at West Ridge Church in Dallas\, Georgia\, faithfully shepherding couples and families through life’s joys and challenges. Alongside him\, Amy brings relational insight and a genuine love for people. Together\, they have led numerous marriage retreats that strengthen communication\, deepen connection\, and build Christ- centered marriages. \nCome enjoy a gracious space to rest\, reconnect\, and be renewed for another season of fruitful ministry in the local church! \nREGISTER HERE!\nLodging Info:\nWeber’s Boutique Hotel (https://www.webersannarbor.com) offers a little bit of luxury and pampering right in the city. Modern rooms boast of Simmons pillowtop beds\, Bluetooth Bose speakers\, and Italian porcelain tiled bathrooms. \nIncluded in your registration fee:\nOvernight accommodations at Weber’s Boutique Hotel\, delicious plated dinner Thursday evening\, coffee and snack Friday mid-morning. No breakfast served on Friday. \nRegistration fee:\n$249 per couple. If your church contributes to the Cooperative Program and you stay for the full duration of the event you will receive a $100 gift card! \nRegistration deadline:\nAugust 28\, 2026 @ 4:00pm
URL:https://bscm.org/event/refresh-your-marriage-retreat/
CATEGORIES:All,Retreats,Strengthening
ATTACH;FMTTYPE=image/png:https://bscm.org/wp-content/uploads/2026/02/Refresh-Your-Marriage-Retreat.png
ORGANIZER;CN="Baptist State Convention of Michigan":MAILTO:info@bscm.org
END:VEVENT
END:VCALENDAR