BEGIN:VCALENDAR
VERSION:2.0
PRODID:-//Baptist State Convention of Michigan - ECPv6.15.20//NONSGML v1.0//EN
CALSCALE:GREGORIAN
METHOD:PUBLISH
X-WR-CALNAME:Baptist State Convention of Michigan
X-ORIGINAL-URL:https://bscm.org
X-WR-CALDESC:Events for Baptist State Convention of Michigan
REFRESH-INTERVAL;VALUE=DURATION:PT1H
X-Robots-Tag:noindex
X-PUBLISHED-TTL:PT1H
BEGIN:VTIMEZONE
TZID:America/Detroit
BEGIN:DAYLIGHT
TZOFFSETFROM:-0500
TZOFFSETTO:-0400
TZNAME:EDT
DTSTART:20260308T070000
END:DAYLIGHT
BEGIN:STANDARD
TZOFFSETFROM:-0400
TZOFFSETTO:-0500
TZNAME:EST
DTSTART:20261101T060000
END:STANDARD
BEGIN:DAYLIGHT
TZOFFSETFROM:-0500
TZOFFSETTO:-0400
TZNAME:EDT
DTSTART:20270314T070000
END:DAYLIGHT
BEGIN:STANDARD
TZOFFSETFROM:-0400
TZOFFSETTO:-0500
TZNAME:EST
DTSTART:20271107T060000
END:STANDARD
BEGIN:DAYLIGHT
TZOFFSETFROM:-0500
TZOFFSETTO:-0400
TZNAME:EDT
DTSTART:20280312T070000
END:DAYLIGHT
BEGIN:STANDARD
TZOFFSETFROM:-0400
TZOFFSETTO:-0500
TZNAME:EST
DTSTART:20281105T060000
END:STANDARD
END:VTIMEZONE
BEGIN:VEVENT
DTSTART;TZID=America/Detroit:20271023T090000
DTEND;TZID=America/Detroit:20271023T160000
DTSTAMP:20260424T102906
CREATED:20260422T014541Z
LAST-MODIFIED:20260422T024145Z
UID:25815135-1824282000-1824307200@bscm.org
SUMMARY:SENT Youth Conference
DESCRIPTION:You weren’t saved to sit—you were SENT! \nThe SENT Youth Conference is a one-day experience designed to challenge and equip students to live on mission for Jesus. \nJoin us on Saturday\, October 23\, 2027\, from 9:00am–4:00pm at Grumlaw Church in Hartland for a high-energy day filled with dynamic preaching\, engaging worship\, and plenty of fun—all centered on the gospel and your teens’ role in God’s mission! Students will hear a clear presentation of the gospel with an opportunity to respond\, be equipped to confidently share their faith with friends\, and put their faith into action through a meaningful service project that reflects the heart of the gospel. \nThis isn’t just another event to attend—it’s a call to live with purpose! \n$20 per student (breakfast and lunch are included) \nYOUTH LEADERS: click here to register your group today!
URL:https://bscm.org/event/sent-youth-conference/
LOCATION:Grumlaw Church – Hartland\, 8457 E Highland Rd\, Howell\, MI\, 48855\, United States
CATEGORIES:All,Student Ministry
ATTACH;FMTTYPE=image/png:https://bscm.org/wp-content/uploads/2026/04/Sent-Conference-2027.png
ORGANIZER;CN="Baptist State Convention of Michigan":MAILTO:info@bscm.org
END:VEVENT
END:VCALENDAR